BEGIN:VCALENDAR
VERSION:2.0
PRODID:-//Non ti Scordar di Me Onlus - punto di ascolto Alzheimer - ECPv6.6.3//NONSGML v1.0//EN
CALSCALE:GREGORIAN
METHOD:PUBLISH
X-ORIGINAL-URL:https://www.nontiscordardimeonlus.it
X-WR-CALDESC:Eventi per Non ti Scordar di Me Onlus - punto di ascolto Alzheimer
REFRESH-INTERVAL;VALUE=DURATION:PT1H
X-Robots-Tag:noindex
X-PUBLISHED-TTL:PT1H
BEGIN:VTIMEZONE
TZID:Europe/Rome
BEGIN:DAYLIGHT
TZOFFSETFROM:+0100
TZOFFSETTO:+0200
TZNAME:CEST
DTSTART:20250330T010000
END:DAYLIGHT
BEGIN:STANDARD
TZOFFSETFROM:+0200
TZOFFSETTO:+0100
TZNAME:CET
DTSTART:20251026T010000
END:STANDARD
END:VTIMEZONE
BEGIN:VEVENT
DTSTART;TZID=Europe/Rome:20251006T170000
DTEND;TZID=Europe/Rome:20251006T183000
DTSTAMP:20260421T111709
CREATED:20250922T103838Z
LAST-MODIFIED:20250922T103838Z
UID:2452-1759770000-1759775400@www.nontiscordardimeonlus.it
SUMMARY:Incontro di auto mutuo aiuto
DESCRIPTION:Carissimi socie/i e simpatizzanti. \nVi aspettiamo all’ incontro di auto mutuo aiuto\, come sempre alla presenza della psicologa Dott.ssa Ivana Chicconi\, che si terrà Lunedì  6 ottobre 2025 dalle  ore 17\,00 alle ore 18\,30   presso la Casa delle Farfalle in  via Trento  Trieste 49 a Poggio Rusco ( viale della stazione). \nIl presidente\nLamberto Borghi
URL:https://www.nontiscordardimeonlus.it/calendario_eventi2/incontro-di-auto-mutuo-aiuto-41/
LOCATION:Poggio Rusco\, Poggio Rusco\, 46025\, Italia
END:VEVENT
BEGIN:VEVENT
DTSTART;TZID=Europe/Rome:20251011T150000
DTEND;TZID=Europe/Rome:20251011T180000
DTSTAMP:20260421T111709
CREATED:20250922T103232Z
LAST-MODIFIED:20250922T103232Z
UID:2438-1760194800-1760205600@www.nontiscordardimeonlus.it
SUMMARY:NON TI SCORDAR DI ME CAFFE'
DESCRIPTION:TERZO INCONTRO \nGruppo familiari: geriatra \nGruppo ospiti: arteterapia
URL:https://www.nontiscordardimeonlus.it/calendario_eventi2/non-ti-scordar-di-me-caffe-3/
LOCATION:Poggio Rusco\, Poggio Rusco\, 46025\, Italia
END:VEVENT
BEGIN:VEVENT
DTSTART;TZID=Europe/Rome:20251020T153000
DTEND;TZID=Europe/Rome:20251020T170000
DTSTAMP:20260421T111709
CREATED:20250922T103655Z
LAST-MODIFIED:20250922T103922Z
UID:2447-1760974200-1760979600@www.nontiscordardimeonlus.it
SUMMARY:Incontro di auto mutuo aiuto
DESCRIPTION:Carissimi socie/i e simpatizzanti. \nVi aspettiamo all’ incontro di auto mutuo aiuto\, sempre alla presenza della psicologa Dott.ssa Ivana Chicconi\, che si terrà lunedì 20 ottobre 2025 dalle ore 15\,30  alle ore 17\,00  presso la Fondazione RSA A. Nuvolari  Largo Nuvolari n 4 a Roncoferraro. \nIl presidente\nLamberto Borghi
URL:https://www.nontiscordardimeonlus.it/calendario_eventi2/incontro-di-auto-mutuo-aiuto-40/
LOCATION:RSA Roncoferraro\, Largo Nuvolari 4\, Italia
END:VEVENT
BEGIN:VEVENT
DTSTART;TZID=Europe/Rome:20251025T150000
DTEND;TZID=Europe/Rome:20251025T180000
DTSTAMP:20260421T111709
CREATED:20250922T103454Z
LAST-MODIFIED:20250922T103454Z
UID:2442-1761404400-1761415200@www.nontiscordardimeonlus.it
SUMMARY:NON TI SCORDAR DI ME CAFFE'
DESCRIPTION:QUARTO INCONTRO \nGruppo familiari: psicologa \nGruppo ospiti: stimolazione cognitiva
URL:https://www.nontiscordardimeonlus.it/calendario_eventi2/non-ti-scordar-di-me-caffe-4/
LOCATION:Poggio Rusco\, Poggio Rusco\, 46025\, Italia
END:VEVENT
END:VCALENDAR