BEGIN:VCALENDAR
VERSION:2.0
PRODID:-//Non ti Scordar di Me Onlus - punto di ascolto Alzheimer - ECPv6.6.3//NONSGML v1.0//EN
CALSCALE:GREGORIAN
METHOD:PUBLISH
X-ORIGINAL-URL:https://www.nontiscordardimeonlus.it
X-WR-CALDESC:Eventi per Non ti Scordar di Me Onlus - punto di ascolto Alzheimer
REFRESH-INTERVAL;VALUE=DURATION:PT1H
X-Robots-Tag:noindex
X-PUBLISHED-TTL:PT1H
BEGIN:VTIMEZONE
TZID:Europe/Rome
BEGIN:DAYLIGHT
TZOFFSETFROM:+0100
TZOFFSETTO:+0200
TZNAME:CEST
DTSTART:20250330T010000
END:DAYLIGHT
BEGIN:STANDARD
TZOFFSETFROM:+0200
TZOFFSETTO:+0100
TZNAME:CET
DTSTART:20251026T010000
END:STANDARD
END:VTIMEZONE
BEGIN:VEVENT
DTSTART;TZID=Europe/Rome:20250609T170000
DTEND;TZID=Europe/Rome:20250609T183000
DTSTAMP:20260425T142547
CREATED:20250525T052751Z
LAST-MODIFIED:20250525T053210Z
UID:2393-1749488400-1749493800@www.nontiscordardimeonlus.it
SUMMARY:Incontro di auto mutuo aiuto
DESCRIPTION:Carissimi socie/i e simpatizzanti. \nVi aspettiamo all’ incontro di auto mutuo aiuto\, come sempre alla presenza della psicologa Dott.ssa Ivana Chicconi\, che si terrà Lunedì  9  giugno 2025 dalle  ore 17\,00 alle ore 18\,30   presso la Casa delle Farfalle in  via Trento  Trieste 49 a Poggio Rusco ( viale della stazione). \nIl presidenteLamberto Borghi
URL:https://www.nontiscordardimeonlus.it/calendario_eventi2/incontro-di-auto-mutuo-aiuto-38/
LOCATION:Poggio Rusco\, Poggio Rusco\, 46025\, Italia
END:VEVENT
BEGIN:VEVENT
DTSTART;TZID=Europe/Rome:20250616T153000
DTEND;TZID=Europe/Rome:20250616T170000
DTSTAMP:20260425T142547
CREATED:20250525T052952Z
LAST-MODIFIED:20250525T052952Z
UID:2396-1750087800-1750093200@www.nontiscordardimeonlus.it
SUMMARY:Incontro di auto mutuo aiuto
DESCRIPTION:Carissimi socie/i e simpatizzanti. \nVi aspettiamo all’ incontro di auto mutuo aiuto\, sempre alla presenza della psicologa Dott.ssa Ivana Chicconi\, che si terrà lunedì 16 giugno 2025 dalle ore 15\,30  alle ore 17\,00  presso la Fondazione RSA A. Nuvolari  Largo Nuvolari n 4 a Roncoferraro. \nIl presidente\nLamberto Borghi
URL:https://www.nontiscordardimeonlus.it/calendario_eventi2/incontro-di-auto-mutuo-aiuto-39/
LOCATION:RSA Roncoferraro\, Largo Nuvolari 4\, Italia
END:VEVENT
BEGIN:VEVENT
DTSTART;TZID=Europe/Rome:20250621T100000
DTEND;TZID=Europe/Rome:20250621T120000
DTSTAMP:20260425T142547
CREATED:20250603T153652Z
LAST-MODIFIED:20250603T153652Z
UID:2402-1750500000-1750507200@www.nontiscordardimeonlus.it
SUMMARY:Progetto NON TI SCORDAR DI ME CAFFE'
DESCRIPTION:Presentazione alla cittadinanza del Progetto NON TI SCORDAR DI ME CAFFE’. \nDalle 10 alle 12 presso la Casa delle Farfalle in Via Trento Trieste 49 a Poggio Rusco (MN). \nL’ingresso è libero e aperto a tutti.
URL:https://www.nontiscordardimeonlus.it/calendario_eventi2/progetto-non-ti-scordar-di-me-caffe/
LOCATION:Poggio Rusco\, Poggio Rusco\, 46025\, Italia
END:VEVENT
END:VCALENDAR