BEGIN:VCALENDAR
VERSION:2.0
PRODID:-//Non ti Scordar di Me Onlus - punto di ascolto Alzheimer - ECPv6.6.3//NONSGML v1.0//EN
CALSCALE:GREGORIAN
METHOD:PUBLISH
X-WR-CALNAME:Non ti Scordar di Me Onlus - punto di ascolto Alzheimer
X-ORIGINAL-URL:https://www.nontiscordardimeonlus.it
X-WR-CALDESC:Eventi per Non ti Scordar di Me Onlus - punto di ascolto Alzheimer
REFRESH-INTERVAL;VALUE=DURATION:PT1H
X-Robots-Tag:noindex
X-PUBLISHED-TTL:PT1H
BEGIN:VTIMEZONE
TZID:Europe/Rome
BEGIN:DAYLIGHT
TZOFFSETFROM:+0100
TZOFFSETTO:+0200
TZNAME:CEST
DTSTART:20190331T010000
END:DAYLIGHT
BEGIN:STANDARD
TZOFFSETFROM:+0200
TZOFFSETTO:+0100
TZNAME:CET
DTSTART:20191027T010000
END:STANDARD
END:VTIMEZONE
BEGIN:VEVENT
DTSTART;TZID=Europe/Rome:20190306T163000
DTEND;TZID=Europe/Rome:20190306T180000
DTSTAMP:20260421T221608
CREATED:20181024T115942Z
LAST-MODIFIED:20190212T163046Z
UID:1916-1551889800-1551895200@www.nontiscordardimeonlus.it
SUMMARY:Incontro auto mutuo aiuto
DESCRIPTION:L’Associazione Non ti Scordar di Me invita all’ incontro di auto mutuo aiuto\, libero e gratuito\, che si terrà Mercoledì 06/03/19 dalle ore 16\,30 alle 18\,00 nella ns. sede in Via Garibaldi 25 a Schivenoglia\,presso la R.S.A. Fondazione Scarpari-Forattini.L’incontro sarà guidato dalla psicologa dott.ssa Ivana Chicconi. E’ disponibile gratuitamente\, per i familiari che lo richiedono per tempo al numero indicato di seguito\, il servizio di assistenza qualificata per intrattenere durante gli incontri i loro cari con Alzheimer. Informazioni al 3801770530.
URL:https://www.nontiscordardimeonlus.it/calendario_eventi2/incontro-auto-mutuo-aiuto-14/
LOCATION:RSA Scarpari\, schivenoglia
CATEGORIES:Eventi Associazione Non ti Scordar di Me
END:VEVENT
END:VCALENDAR