BEGIN:VCALENDAR
VERSION:2.0
PRODID:-//Non ti Scordar di Me Onlus - punto di ascolto Alzheimer - ECPv6.6.3//NONSGML v1.0//EN
CALSCALE:GREGORIAN
METHOD:PUBLISH
X-ORIGINAL-URL:https://www.nontiscordardimeonlus.it
X-WR-CALDESC:Eventi per Non ti Scordar di Me Onlus - punto di ascolto Alzheimer
REFRESH-INTERVAL;VALUE=DURATION:PT1H
X-Robots-Tag:noindex
X-PUBLISHED-TTL:PT1H
BEGIN:VTIMEZONE
TZID:Europe/Rome
BEGIN:DAYLIGHT
TZOFFSETFROM:+0100
TZOFFSETTO:+0200
TZNAME:CEST
DTSTART:20250330T010000
END:DAYLIGHT
BEGIN:STANDARD
TZOFFSETFROM:+0200
TZOFFSETTO:+0100
TZNAME:CET
DTSTART:20251026T010000
END:STANDARD
END:VTIMEZONE
BEGIN:VEVENT
DTSTART;TZID=Europe/Rome:20251220T150000
DTEND;TZID=Europe/Rome:20251220T180000
DTSTAMP:20260421T101745
CREATED:20251113T123945Z
LAST-MODIFIED:20251113T123945Z
UID:2477-1766242800-1766253600@www.nontiscordardimeonlus.it
SUMMARY:NON TI SCORDAR DI ME CAFFE'
DESCRIPTION:OTTAVO INCONTRO \nGruppo familiari: sostegno psicologico \nGruppo ospiti:musicoterapia
URL:https://www.nontiscordardimeonlus.it/calendario_eventi2/non-ti-scordar-di-me-caffe-8/
LOCATION:Biblioteca di Poggio Rusco
END:VEVENT
END:VCALENDAR