BEGIN:VCALENDAR
VERSION:2.0
PRODID:-//Non ti Scordar di Me Onlus - punto di ascolto Alzheimer - ECPv6.6.3//NONSGML v1.0//EN
CALSCALE:GREGORIAN
METHOD:PUBLISH
X-WR-CALNAME:Non ti Scordar di Me Onlus - punto di ascolto Alzheimer
X-ORIGINAL-URL:https://www.nontiscordardimeonlus.it
X-WR-CALDESC:Eventi per Non ti Scordar di Me Onlus - punto di ascolto Alzheimer
REFRESH-INTERVAL;VALUE=DURATION:PT1H
X-Robots-Tag:noindex
X-PUBLISHED-TTL:PT1H
BEGIN:VTIMEZONE
TZID:Europe/Rome
BEGIN:DAYLIGHT
TZOFFSETFROM:+0100
TZOFFSETTO:+0200
TZNAME:CEST
DTSTART:20240331T010000
END:DAYLIGHT
BEGIN:STANDARD
TZOFFSETFROM:+0200
TZOFFSETTO:+0100
TZNAME:CET
DTSTART:20241027T010000
END:STANDARD
END:VTIMEZONE
BEGIN:VEVENT
DTSTART;TZID=Europe/Rome:20241216T153000
DTEND;TZID=Europe/Rome:20241216T170000
DTSTAMP:20260425T231840
CREATED:20241125T151325Z
LAST-MODIFIED:20241125T151325Z
UID:2349-1734363000-1734368400@www.nontiscordardimeonlus.it
SUMMARY:Incontro di auto mutuo aiuto
DESCRIPTION:Carissimi socie/i e simpatizzanti. \nVi aspettiamo all’ incontro di auto mutuo aiuto\, sempre alla presenza della psicologa Dott.ssa Ivana Chicconi\, che si terrà lunedì 16 dicembre 2024 alle ore 15\,30  presso la Fondazione RSA A. Nuvolari  Largo Nuvolari n 4 a Roncoferraro. \nIl presidente \nLamberto Borghi
URL:https://www.nontiscordardimeonlus.it/calendario_eventi2/incontro-di-auto-mutuo-aiuto-28/
LOCATION:RSA Roncoferraro\, Largo Nuvolari 4\, Italia
END:VEVENT
END:VCALENDAR