BEGIN:VCALENDAR
VERSION:2.0
PRODID:-//Non ti Scordar di Me Onlus - punto di ascolto Alzheimer - ECPv6.6.3//NONSGML v1.0//EN
CALSCALE:GREGORIAN
METHOD:PUBLISH
X-WR-CALNAME:Non ti Scordar di Me Onlus - punto di ascolto Alzheimer
X-ORIGINAL-URL:https://www.nontiscordardimeonlus.it
X-WR-CALDESC:Eventi per Non ti Scordar di Me Onlus - punto di ascolto Alzheimer
REFRESH-INTERVAL;VALUE=DURATION:PT1H
X-Robots-Tag:noindex
X-PUBLISHED-TTL:PT1H
BEGIN:VTIMEZONE
TZID:Europe/Rome
BEGIN:DAYLIGHT
TZOFFSETFROM:+0100
TZOFFSETTO:+0200
TZNAME:CEST
DTSTART:20240331T010000
END:DAYLIGHT
BEGIN:STANDARD
TZOFFSETFROM:+0200
TZOFFSETTO:+0100
TZNAME:CET
DTSTART:20241027T010000
END:STANDARD
END:VTIMEZONE
BEGIN:VEVENT
DTSTART;TZID=Europe/Rome:20241104T163000
DTEND;TZID=Europe/Rome:20241104T180000
DTSTAMP:20260426T002913
CREATED:20241018T175612Z
LAST-MODIFIED:20241018T175612Z
UID:2329-1730737800-1730743200@www.nontiscordardimeonlus.it
SUMMARY:Incontro di auto mutuo aiuto
DESCRIPTION:Carissimi socie/i e simpatizzanti. \nVi aspettiamo all’ incontro di auto mutuo aiuto\, come sempre alla presenza della psicologa Dott.ssa Ivana Chicconi\, che si terrà con orario invernale Lunedì 04 novembre 2024 dalle  ore 16\,30 alle ore 18\,00   presso la Casa delle Farfalle in  via Trento  Trieste 49 a Poggio Rusco ( viale della stazione). \nIl presidente\nLamberto Borghi
URL:https://www.nontiscordardimeonlus.it/calendario_eventi2/incontro-di-auto-mutuo-aiuto-25/
LOCATION:Poggio Rusco\, Poggio Rusco\, 46025\, Italia
END:VEVENT
END:VCALENDAR