BEGIN:VCALENDAR
VERSION:2.0
PRODID:-//Non ti Scordar di Me Onlus - punto di ascolto Alzheimer - ECPv6.6.3//NONSGML v1.0//EN
CALSCALE:GREGORIAN
METHOD:PUBLISH
X-ORIGINAL-URL:https://www.nontiscordardimeonlus.it
X-WR-CALDESC:Eventi per Non ti Scordar di Me Onlus - punto di ascolto Alzheimer
REFRESH-INTERVAL;VALUE=DURATION:PT1H
X-Robots-Tag:noindex
X-PUBLISHED-TTL:PT1H
BEGIN:VTIMEZONE
TZID:Europe/Rome
BEGIN:DAYLIGHT
TZOFFSETFROM:+0100
TZOFFSETTO:+0200
TZNAME:CEST
DTSTART:20240331T010000
END:DAYLIGHT
BEGIN:STANDARD
TZOFFSETFROM:+0200
TZOFFSETTO:+0100
TZNAME:CET
DTSTART:20241027T010000
END:STANDARD
END:VTIMEZONE
BEGIN:VEVENT
DTSTART;TZID=Europe/Rome:20241014T180000
DTEND;TZID=Europe/Rome:20241014T193000
DTSTAMP:20260426T015403
CREATED:20240927T130457Z
LAST-MODIFIED:20240927T130457Z
UID:2320-1728928800-1728934200@www.nontiscordardimeonlus.it
SUMMARY:Hub Oltrepò Mantovano via M. di Belfiore\, 7 Quistello Mantova
DESCRIPTION:
URL:https://www.nontiscordardimeonlus.it/calendario_eventi2/hub-oltrepo-mantovano-via-m-di-belfiore-7-quistello-mantova/
LOCATION:MN
END:VEVENT
END:VCALENDAR