BEGIN:VCALENDAR
VERSION:2.0
PRODID:-//Non ti Scordar di Me Onlus - punto di ascolto Alzheimer - ECPv6.6.3//NONSGML v1.0//EN
CALSCALE:GREGORIAN
METHOD:PUBLISH
X-WR-CALNAME:Non ti Scordar di Me Onlus - punto di ascolto Alzheimer
X-ORIGINAL-URL:https://www.nontiscordardimeonlus.it
X-WR-CALDESC:Eventi per Non ti Scordar di Me Onlus - punto di ascolto Alzheimer
REFRESH-INTERVAL;VALUE=DURATION:PT1H
X-Robots-Tag:noindex
X-PUBLISHED-TTL:PT1H
BEGIN:VTIMEZONE
TZID:Europe/Rome
BEGIN:DAYLIGHT
TZOFFSETFROM:+0100
TZOFFSETTO:+0200
TZNAME:CEST
DTSTART:20240331T010000
END:DAYLIGHT
BEGIN:STANDARD
TZOFFSETFROM:+0200
TZOFFSETTO:+0100
TZNAME:CET
DTSTART:20241027T010000
END:STANDARD
END:VTIMEZONE
BEGIN:VEVENT
DTSTART;TZID=Europe/Rome:20240916T153000
DTEND;TZID=Europe/Rome:20240916T170000
DTSTAMP:20260426T030130
CREATED:20240910T105828Z
LAST-MODIFIED:20240910T105849Z
UID:2304-1726500600-1726506000@www.nontiscordardimeonlus.it
SUMMARY:Incontro di auto mutuo aiuto
DESCRIPTION:Carissimi socie/i e simpatizzanti.\nTerminata la pausa estiva\, riprendiamo l’attività di sostegno ormai tradizionale per la nostra Associazione. \nVi aspetto all’ incontro di auto mutuo aiuto\,  con la presenza della psicologa Dott.ssa Ivana Chicconi\, che si terrà lunedì 16 settembre 2024 dalle ore 15\,30 alle ore 17\,00  presso la Fondazione RSA  A. Nuvolari  Largo Nuvolari n 4 a Roncoferraro.\n\nIl Presidente  \nLamberto Borghi \n\n 
URL:https://www.nontiscordardimeonlus.it/calendario_eventi2/incontro-di-auto-mutuo-aiuto-24/
LOCATION:RSA Roncoferraro\, Largo Nuvolari 4\, Italia
END:VEVENT
END:VCALENDAR